BEGIN:VCALENDAR
VERSION:2.0
PRODID:-//eventon.com NONSGML v1.0//EN
CALSCALE:GREGORIAN
METHOD:PUBLISH
BEGIN:VEVENT
UID:69e5e68f35099
DTSTAMP:20260420T084047Z
DTSTART:20240124T190000Z
DTEND:20240124T210000Z
LOCATION:Modern&#039;ciné 1\,  rue du 08 mai 1945
SUMMARY:Projection à TEMPLEUVE
DESCRIPTION:Cinéma Olympia\nhttps://www.etugen.fr/events/projection-a-temp
 leuve/
URL:https://www.etugen.fr/events/projection-a-templeuve/
END:VEVENT
END:VCALENDAR