BEGIN:VCALENDAR
VERSION:2.0
PRODID:-//eventon.com NONSGML v1.0//EN
CALSCALE:GREGORIAN
METHOD:PUBLISH
BEGIN:VEVENT
UID:69e5e5cd57531
DTSTAMP:20260420T083733Z
DTSTART:20230306T173000Z
DTEND:20230306T190000Z
LOCATION:Cinéma Ti Anok Porte Océane 3\,  Place de l'Europe 56400 AURAY
SUMMARY:Projection à Auray
DESCRIPTION:Ti Anok\nhttps://www.etugen.fr/events/projection-a-auray-4/
URL:https://www.etugen.fr/events/projection-a-auray-4/
END:VEVENT
END:VCALENDAR