BEGIN:VCALENDAR
VERSION:2.0
PRODID:-//eventon.com NONSGML v1.0//EN
CALSCALE:GREGORIAN
METHOD:PUBLISH
BEGIN:VEVENT
UID:69e75a743eeac
DTSTAMP:20260421T110732Z
DTSTART:20230318T190000Z
DTEND:20230318T203000Z
LOCATION:Centre de Congrès Le Manège (Auditorium) 331 Rue de la République\,  73000 Chambéry\,  France
SUMMARY:Séance à Chambery
DESCRIPTION:AUDITORIUM (Centre des congrès Le Manège)\nhttps://www.etugen
 .fr/events/seance-a-chambery/
URL:https://www.etugen.fr/events/seance-a-chambery/
END:VEVENT
END:VCALENDAR